BEGIN:VCALENDAR
PRODID: -//CFLIB.ORG//iCalUS()//EN
VERSION:2.0
METHOD:REQUEST
BEGIN:VTIMEZONE
BEGIN:STANDARD
DTSTART:20061101T020000
RRULE:FREQ=YEARLY;INTERVAL=1;BYDAY=1SU;BYMONTH=11
TZOFFSETFROM:-0400
TZOFFSETTO:-0500
TZNAME:Standard Time
END:STANDARD
BEGIN:DAYLIGHT
DTSTART:20060301T020000
RRULE:FREQ=YEARLY;INTERVAL=1;BYDAY=2SU;BYMONTH=3
TZOFFSETFROM:-0500
TZOFFSETTO:-0400
TZNAME:Daylight Savings Time
END:DAYLIGHT
END:VTIMEZONE
BEGIN:VEVENT
UID:1582574141434.CFLIB.ORG
ORGANIZER;CN=:MAILTO:
DTSTAMP:20200225T065541
DTSTART;TZID=Eastern Time:20200225T164500
DTEND;TZID=Eastern Time:20200225T170000
SUMMARY:ADCOCK REAL ESTATE - OFI/OPEN HOME - 10 Liebelt Road, Mount Barker, 5251
LOCATION:10 Liebelt Road, Mount Barker, 5251
DESCRIPTION:OFI/OPEN HOME - 10 Liebelt Road, Mount Barker, 5251\n\nTuesday 4:45PM-5:00PM\n\nClick the link for full listing information: http://adcock.com.au?/property/3277521
PRIORITY:1
TRANSP:OPAQUE
CLASS:PUBLIC
BEGIN:VALARM
TRIGGER:-PT30M
ACTION:DISPLAY
DESCRIPTION:Reminder
END:VALARM
END:VEVENT
END:VCALENDAR 